BEGIN:VCALENDAR
VERSION:2.0
PRODID:-//Holger Reich - ECPv6.15.20//NONSGML v1.0//EN
CALSCALE:GREGORIAN
METHOD:PUBLISH
X-ORIGINAL-URL:https://holgerreich.eu
X-WR-CALDESC:Veranstaltungen für Holger Reich
REFRESH-INTERVAL;VALUE=DURATION:PT1H
X-Robots-Tag:noindex
X-PUBLISHED-TTL:PT1H
BEGIN:VTIMEZONE
TZID:UTC
BEGIN:STANDARD
TZOFFSETFROM:+0000
TZOFFSETTO:+0000
TZNAME:UTC
DTSTART:20250101T000000
END:STANDARD
END:VTIMEZONE
BEGIN:VEVENT
DTSTART;TZID=UTC:20260220T080000
DTEND;TZID=UTC:20260221T170000
DTSTAMP:20260425T143305
CREATED:20260122T133910Z
LAST-MODIFIED:20260122T133910Z
UID:1843-1771574400-1771693200@holgerreich.eu
SUMMARY:Credo Netzwerktage (Solingen)
DESCRIPTION:
URL:https://holgerreich.eu/event/credo-netzwerktage-solingen/
END:VEVENT
END:VCALENDAR